BEGIN:VCALENDAR
VERSION:2.0
PRODID:Events Booking
BEGIN:VEVENT
UID:69eb78425e850
SUMMARY:Best Uses of Generative AI & ChatGPT for Real Estate\, Webinar\, 3 
 CE
DESCRIPTION:Best Uses of Generative AI &amp\; ChatGPT for Real Estate
 Art
 ificial Intelligence or AI has been around for a long time\, but with the 
 emergence of OpenAI’s ChatGPT &amp\; Dalle\, MidJourney\, Google Gemini\
 , Microsoft Co-Pilot\, &amp\; others\, plus so many other tools we already
  use and love like Office\, Docs\, RPR Canva\, Adobe\, Grammarly\, and mor
 e incorporating AI into their offerings\, it has finally reached the masse
 s. In this session\, we will explore what AI is\, how it can be used in yo
 ur real estate business and everyday life\, the legal &amp\; ethical impli
 cations\, and much more. By the end of this session\, you will be more int
 elligent about this fast-emerging technology to ensure you stay ahead of t
 he curve\, improve your life happiness\, and boost your business efficienc
 ies and customer service\, all while using these tools in an ethical and c
 ompliant manner!&nbsp\;
 &nbsp\;
 National Speaker: Craig Grant\, Real E
 state Technology Institute
 As the lead Subject Matter Expert (SME) of NA
 R’s upcoming rebuild of ePro\, 2023 RIS Media Newsmaker as an Industry F
 uturist\, over 150 in-person &amp\; virtual speaking engagements around th
 e world each year\, including sessions for NAR\, several state conventions
 \, franchises\, CRS\, &amp\; other key industry events\, Craig Grant is co
 nsidered one of the most sought-after technology\, marketing &amp\; cybers
 ecurity speakers around.
DTSTART:20260521T200000Z
DTEND:20260521T230000Z
DTSTAMP:20260303T074620Z
ORGANIZER;CN=COAR Events and Classes:MAILTO:info@cascadeseastrealtors.com
END:VEVENT
END:VCALENDAR