BEGIN:VCALENDAR
VERSION:2.0
PRODID:Events Booking
BEGIN:VEVENT
UID:69ea33e7c3512
SUMMARY:RPAC Annual Event
DESCRIPTION:Join us for this exciting event! It is a fantastic opportunity 
 to support the real estate industry while enjoying a lively atmosphere\, d
 elicious food and refreshing beverages\, and a chance to win fabulous priz
 es! Connect with fellow community members\, network with local professiona
 ls\, and contribute to the success of our organization.
 Event Speakers: 
 Rep. Vikki Breese Iverson\, HD59 (local legislator and REALTOR® member) &
 amp\; Rep. Emerson Levy\, HD53 (Cascades East REALTORS® 2025 Housing Cham
 pion)&nbsp\;
 Whether you're a long-time supporter or new to the REALTOR
 ® Party Action Committee (RPAC)\, your presence and participation will ma
 ke a difference. Mark your calendars for an unforgettable evening dedicate
 d to making a positive impact. We look forward to seeing you there!
 This
  event is open to Cascades East REALTOR®&nbsp\;and Affiliate members only
 .
LOCATION:62950 NE 18th St
DTSTART:20260511T230000Z
DTEND:20260512T010000Z
DTSTAMP:20260422T053948Z
ORGANIZER;CN=COAR Events and Classes:MAILTO:info@cascadeseastrealtors.com
GEO:44.085602;-121.280963
X-APPLE-STRUCTURED-LOCATION;VALUE=URI;X-ADDRESS=62950 NE 18th St;X-APPLE-RA
 DIUS=72;X-TITLE=10 Barrel - Eastside:44.085602;-121.280963
END:VEVENT
END:VCALENDAR